BEGIN:VCALENDAR
VERSION:2.0
PRODID:-//MARKSRC.com - ECPv6.15.16//NONSGML v1.0//EN
CALSCALE:GREGORIAN
METHOD:PUBLISH
X-WR-CALNAME:MARKSRC.com
X-ORIGINAL-URL:https://marksrc.com
X-WR-CALDESC:Events for MARKSRC.com
REFRESH-INTERVAL;VALUE=DURATION:PT1H
X-Robots-Tag:noindex
X-PUBLISHED-TTL:PT1H
BEGIN:VTIMEZONE
TZID:UTC
BEGIN:STANDARD
TZOFFSETFROM:+0000
TZOFFSETTO:+0000
TZNAME:UTC
DTSTART:20200101T000000
END:STANDARD
END:VTIMEZONE
BEGIN:VEVENT
DTSTART;TZID=UTC:20211214T180000
DTEND;TZID=UTC:20211214T200000
DTSTAMP:20260424T182425
CREATED:20211031T175602Z
LAST-MODIFIED:20211031T175602Z
UID:998-1639504800-1639512000@marksrc.com
SUMMARY:Dinner Meeting
DESCRIPTION:
URL:https://marksrc.com/event/dinner-meeting
LOCATION:Goin’ Nuts Cafe\, 947 Mt Hermon Rd\, Salisbury\, MD\, 21804
ORGANIZER;CN="Wally Makuchal":MAILTO:wmakuchal@comcast.net
END:VEVENT
BEGIN:VEVENT
DTSTART;VALUE=DATE:20211106
DTEND;VALUE=DATE:20211107
DTSTAMP:20260424T182425
CREATED:20211019T172524Z
LAST-MODIFIED:20211027T202821Z
UID:905-1636156800-1636243199@marksrc.com
SUMMARY:Flite Test Bloody Baron Combat and Free Food
DESCRIPTION:Join us for an informal combat and free lunch. The combat is intended for all the Flite Test Bloody Barons being built by club members\, but if you have a disposable foam type plane\, and are crazy enough to fly a streamer with a dozen others\, bring it along. \nThe free food will be served when it is ready until it is gone\, but the target time is noon. \nThe combat is informal\, and we will make up the rules as we go along.
URL:https://marksrc.com/event/ft-bloody-baron-combat
LOCATION:MARKS Waybright Field\, 1918 St. Lukes Road\, Salisbury\, MD\, 21804\, United States
END:VEVENT
BEGIN:VEVENT
DTSTART;TZID=UTC:20211016T090000
DTEND;TZID=UTC:20211016T160000
DTSTAMP:20260424T182425
CREATED:20211009T164418Z
LAST-MODIFIED:20211009T164418Z
UID:654-1634374800-1634400000@marksrc.com
SUMMARY:Vintage Fun Fly
DESCRIPTION:
URL:https://marksrc.com/event/vintage-fun-fly
LOCATION:MARKS Waybright Field\, 1918 St. Lukes Road\, Salisbury\, MD\, 21804\, United States
ORGANIZER;CN="John Haffner":MAILTO:mooneyjock@outlook.com
END:VEVENT
END:VCALENDAR